BEGIN:VCALENDAR
VERSION:2.0
PRODID:-//ExhibitionMatches.com//NONSGML v1.0//EN
BEGIN:VEVENT
UID=1050BB1F-B67D-9E1D-3CC180AF841B0A71
DTSTAMP=20260422T055542Z
DTSTART;VALUE=DATE:20260530
DTEND;VALUE=DATE:20260531
SUMMARY:Illinois Second Chance National Team Qualifier
LOCATION:Sycamore High School, 427 Spartan Trl, Sycamore, IL, 60178
DESCRIPTION:View full event details: https://wrestlingtournaments.org/view.cfm?ID=107027
Contact: Mike Urwin murwin@ilusaw.com
URL;VALUE=URI:https://wrestlingtournaments.org/view.cfm?ID=107027
END:VEVENT
END:VCALENDAR