BEGIN:VCALENDAR
VERSION:2.0
PRODID:-//ExhibitionMatches.com//NONSGML v1.0//EN
BEGIN:VEVENT
UID=104C7F20-FE5D-FFAB-607DC06C6A09300A
DTSTAMP=20260422T055514Z
DTSTART;VALUE=DATE:20260530
DTEND;VALUE=DATE:20260531
SUMMARY:Baker Freestyle Frenzy
LOCATION:Collins Center Gym, 524 6th Street, Baldwin City, KS, 66006
DESCRIPTION:View full event details: https://wrestlingtournaments.org/view.cfm?ID=107026
Contact: Kit Harris kit.harris@bakeru.edu
URL;VALUE=URI:https://wrestlingtournaments.org/view.cfm?ID=107026
END:VEVENT
END:VCALENDAR