BEGIN:VCALENDAR
VERSION:2.0
PRODID:-//ExhibitionMatches.com//NONSGML v1.0//EN
BEGIN:VEVENT
UID=F3D7C26C-02CA-5856-C57E8B710ED199ED
DTSTAMP=20260421T163933Z
DTSTART;VALUE=DATE:20260424
DTEND;VALUE=DATE:20260425
SUMMARY:Friday Night Freestyle Open
LOCATION:Berwick Sports Complex, 201 east 3rd street, Berwick, PA, 18603
DESCRIPTION:View full event details: https://wrestlingtournaments.org/view.cfm?ID=107025
Contact: Lee Benjamin pridewrestlingevents@gmail.com
URL;VALUE=URI:https://wrestlingtournaments.org/view.cfm?ID=107025
END:VEVENT
END:VCALENDAR