BEGIN:VCALENDAR
VERSION:2.0
PRODID:-//ExhibitionMatches.com//NONSGML v1.0//EN
BEGIN:VEVENT
UID=ED903D36-0D95-1B25-CA7A75A4F37D92F7
DTSTAMP=20260421T134358Z
DTSTART;VALUE=DATE:20260424
DTEND;VALUE=DATE:20260426
SUMMARY:MUSAW Lapeer
LOCATION:Lapeer High School, 933 S Saginaw Street, Lapeer, MI, 48446
DESCRIPTION:View full event details: https://wrestlingtournaments.org/view.cfm?ID=107024
Contact: Steven Richardson srichardson@musaw.org
URL;VALUE=URI:https://wrestlingtournaments.org/view.cfm?ID=107024
END:VEVENT
END:VCALENDAR