BEGIN:VCALENDAR
VERSION:2.0
PRODID:-//ExhibitionMatches.com//NONSGML v1.0//EN
BEGIN:VEVENT
UID=14005672-9C1C-BEC1-CD1B1DBCCF435FEF
DTSTAMP=20260422T073846Z
DTSTART;VALUE=DATE:20260529
DTEND;VALUE=DATE:20260531
SUMMARY:Toledo Beach Wrestling Open
LOCATION:The Beach at International Park, 25 Main St., Toledo, OH, 43605
DESCRIPTION:View full event details: https://wrestlingtournaments.org/view.cfm?ID=107023
Contact: Ed Duncan usabeachwrestling1@gmail.com
URL;VALUE=URI:https://wrestlingtournaments.org/view.cfm?ID=107023
END:VEVENT
END:VCALENDAR