BEGIN:VCALENDAR
VERSION:2.0
PRODID:-//ExhibitionMatches.com//NONSGML v1.0//EN
BEGIN:VEVENT
UID=104E7000-BD30-2A6B-2A5184071BC6E1FB
DTSTAMP=20260422T055527Z
DTSTART;VALUE=DATE:20260525
DTEND;VALUE=DATE:20260527
SUMMARY:Victoria Anthony Freestyle Clinic (Team Texas)
LOCATION:Lubbock Cooper High School, 910 Woodrow Rd., Lubbock, TX, 79423
DESCRIPTION:View full event details: https://wrestlingtournaments.org/view.cfm?ID=107022
Contact: Sam Estrada west@txusaw.com
URL;VALUE=URI:https://wrestlingtournaments.org/view.cfm?ID=107022
END:VEVENT
END:VCALENDAR