BEGIN:VCALENDAR
VERSION:2.0
PRODID:-//ExhibitionMatches.com//NONSGML v1.0//EN
BEGIN:VEVENT
UID=1026C32E-91EE-D536-33171A4518A435BA
DTSTAMP=20260422T055107Z
DTSTART;VALUE=DATE:20260524
DTEND;VALUE=DATE:20260525
SUMMARY:TOF War Ready Freco
LOCATION:SLAM Miami, 542 Northwest 12th Avenue, Miami, FL, 33136
DESCRIPTION:View full event details: https://wrestlingtournaments.org/view.cfm?ID=107021

URL;VALUE=URI:https://wrestlingtournaments.org/view.cfm?ID=107021
END:VEVENT
END:VCALENDAR