BEGIN:VCALENDAR
VERSION:2.0
PRODID:-//ExhibitionMatches.com//NONSGML v1.0//EN
BEGIN:VEVENT
UID=135E53A1-944A-B640-F91F27ED641430A5
DTSTAMP=20260422T072105Z
DTSTART;VALUE=DATE:20260524
DTEND;VALUE=DATE:20260526
SUMMARY:Hawaii Freestyle &amp; Greco State Championship
LOCATION:Kaiser High School Gymnasium, 511 Lunalilo Home Rd, Honolulu, HI, 96825
DESCRIPTION:View full event details: https://wrestlingtournaments.org/view.cfm?ID=107020
Contact: Michael Chang michael.hk.chang@gmail.com
URL;VALUE=URI:https://wrestlingtournaments.org/view.cfm?ID=107020
END:VEVENT
END:VCALENDAR