BEGIN:VCALENDAR
VERSION:2.0
PRODID:-//ExhibitionMatches.com//NONSGML v1.0//EN
BEGIN:VEVENT
UID=101D6159-C565-1823-1F87545234777BDD
DTSTAMP=20260422T055006Z
DTSTART;VALUE=DATE:20260523
DTEND;VALUE=DATE:20260527
SUMMARY:CVWA CHAMPIONSHIP
LOCATION:JUSTIN GARZA HIGH SCHOOL, 4100 N GRANTLAND AVE, FRESNO, CA, 93722
DESCRIPTION:View full event details: https://wrestlingtournaments.org/view.cfm?ID=107019
Contact: Sean Carlson CVWAUSAW@GMAIL.COM
URL;VALUE=URI:https://wrestlingtournaments.org/view.cfm?ID=107019
END:VEVENT
END:VCALENDAR