BEGIN:VCALENDAR
VERSION:2.0
PRODID:-//ExhibitionMatches.com//NONSGML v1.0//EN
BEGIN:VEVENT
UID=10293B0D-EA63-04BD-C83A6EF4418BC1CD
DTSTAMP=20260422T055123Z
DTSTART;VALUE=DATE:20260523
DTEND;VALUE=DATE:20260524
SUMMARY:TOF Spartan Scuffle #2
LOCATION:Spartan RTC, 700 Harold Ave, Winter Park, FL, 32789
DESCRIPTION:View full event details: https://wrestlingtournaments.org/view.cfm?ID=107017
Contact: Steven Price stevenprice608@yahoo.com
URL;VALUE=URI:https://wrestlingtournaments.org/view.cfm?ID=107017
END:VEVENT
END:VCALENDAR