BEGIN:VCALENDAR
VERSION:2.0
PRODID:-//ExhibitionMatches.com//NONSGML v1.0//EN
BEGIN:VEVENT
UID=13BB70EC-C55F-DCBE-0B910C30D2CB0EED
DTSTAMP=20260422T073115Z
DTSTART;VALUE=DATE:20260523
DTEND;VALUE=DATE:20260524
SUMMARY:COUSAW State FS/GR
LOCATION:Thornton High School, 9351 Washington St, Thornton, CO, 80229
DESCRIPTION:View full event details: https://wrestlingtournaments.org/view.cfm?ID=107015
Contact: Joseph Moore jumbojoeco@gmail.com
URL;VALUE=URI:https://wrestlingtournaments.org/view.cfm?ID=107015
END:VEVENT
END:VCALENDAR