BEGIN:VCALENDAR
VERSION:2.0
PRODID:-//ExhibitionMatches.com//NONSGML v1.0//EN
BEGIN:VEVENT
UID=100D9081-05C7-8A54-10EE68B9A42FDAE9
DTSTAMP=20260422T054822Z
DTSTART;VALUE=DATE:20260523
DTEND;VALUE=DATE:20260524
SUMMARY:Pioneer Pummel 2026
LOCATION:Oregon Trail Park Stadium, 1215 J Street, Gering, NE, 69341
DESCRIPTION:View full event details: https://wrestlingtournaments.org/view.cfm?ID=107014

URL;VALUE=URI:https://wrestlingtournaments.org/view.cfm?ID=107014
END:VEVENT
END:VCALENDAR