BEGIN:VCALENDAR
VERSION:2.0
PRODID:-//ExhibitionMatches.com//NONSGML v1.0//EN
BEGIN:VEVENT
UID=10187DFA-B6D9-F184-CEA5070A537A532A
DTSTAMP=20260422T054934Z
DTSTART;VALUE=DATE:20260523
DTEND;VALUE=DATE:20260524
SUMMARY:Beach Wrestling on the Bayou
LOCATION:Thibodaux Regional Sports Complex, 294 Bowie Road, Thibodaux, LA, 70301
DESCRIPTION:View full event details: https://wrestlingtournaments.org/view.cfm?ID=107013
Contact: Sheridan Moran deltatrainingctr@gmail.com
URL;VALUE=URI:https://wrestlingtournaments.org/view.cfm?ID=107013
END:VEVENT
END:VCALENDAR