BEGIN:VCALENDAR
VERSION:2.0
PRODID:-//ExhibitionMatches.com//NONSGML v1.0//EN
BEGIN:VEVENT
UID=67F87992-AA9F-9434-5431CA3E27817F43
DTSTAMP=20260423T224643Z
DTSTART;VALUE=DATE:20260521
DTEND;VALUE=DATE:20260527
SUMMARY:NEUSA Virginia Beach Trip
LOCATION:Alpha Land Surveying, 10619 Burt Circle, Omaha, NE, 68114
DESCRIPTION:View full event details: https://wrestlingtournaments.org/view.cfm?ID=107011
Contact: Fred Franklin statechair@neusaw.com
URL;VALUE=URI:https://wrestlingtournaments.org/view.cfm?ID=107011
END:VEVENT
END:VCALENDAR