BEGIN:VCALENDAR
VERSION:2.0
PRODID:-//ExhibitionMatches.com//NONSGML v1.0//EN
BEGIN:VEVENT
UID=67D7BE30-C4A5-396E-03F8F44D53AA9CD7
DTSTAMP=20260423T224309Z
DTSTART;VALUE=DATE:20260517
DTEND;VALUE=DATE:20260518
SUMMARY:Commonwealth Cup
LOCATION:Phan Zone, 142 NH-111, Hamstead, NH
DESCRIPTION:View full event details: https://wrestlingtournaments.org/view.cfm?ID=107010
Contact: Desmond Kaplan board@usawmwa.org
URL;VALUE=URI:https://wrestlingtournaments.org/view.cfm?ID=107010
END:VEVENT
END:VCALENDAR