BEGIN:VCALENDAR
VERSION:2.0
PRODID:-//ExhibitionMatches.com//NONSGML v1.0//EN
BEGIN:VEVENT
UID=67DD561A-EE9A-E636-007F10DF2B8D3A43
DTSTAMP=20260423T224345Z
DTSTART;VALUE=DATE:20260516
DTEND;VALUE=DATE:20260517
SUMMARY:TOF Cardinal Gibbons #2
LOCATION:Cardinal Gibbons High School, 2900 NE 47th St, Fort Lauderdale, FL, 33308
DESCRIPTION:View full event details: https://wrestlingtournaments.org/view.cfm?ID=107008
Contact: Jamel Morris jmorris1132@gmail.com
URL;VALUE=URI:https://wrestlingtournaments.org/view.cfm?ID=107008
END:VEVENT
END:VCALENDAR