BEGIN:VCALENDAR
VERSION:2.0
PRODID:-//ExhibitionMatches.com//NONSGML v1.0//EN
BEGIN:VEVENT
UID=67E57187-B134-65DA-2878E3EF1489A202
DTSTAMP=20260423T224439Z
DTSTART;VALUE=DATE:20260516
DTEND;VALUE=DATE:20260517
SUMMARY:Kalani Tournament
LOCATION:Kalani High School Gym, 4680 Kalanianaole Hwy, Honolulu, HI, 96821
DESCRIPTION:View full event details: https://wrestlingtournaments.org/view.cfm?ID=107006
Contact: Michael Chang michael.hk.chang@gmail.com
URL;VALUE=URI:https://wrestlingtournaments.org/view.cfm?ID=107006
END:VEVENT
END:VCALENDAR