BEGIN:VCALENDAR
VERSION:2.0
PRODID:-//ExhibitionMatches.com//NONSGML v1.0//EN
BEGIN:VEVENT
UID=67D05414-E190-5B0B-44DA03DE1EB62669
DTSTAMP=20260423T224220Z
DTSTART;VALUE=DATE:20260516
DTEND;VALUE=DATE:20260517
SUMMARY:Ames Freestyle &amp; Greco
LOCATION:Ames High School, 1801 Ridgewood ave, Ames, IA, 50010
DESCRIPTION:View full event details: https://wrestlingtournaments.org/view.cfm?ID=107004
Contact: Nate Alvarez nate.alvarez@ames.k12.ia.us
URL;VALUE=URI:https://wrestlingtournaments.org/view.cfm?ID=107004
END:VEVENT
END:VCALENDAR