BEGIN:VCALENDAR
VERSION:2.0
PRODID:-//ExhibitionMatches.com//NONSGML v1.0//EN
BEGIN:VEVENT
UID=67F498BA-F4D1-C0C6-F0C9A868D3EC1403
DTSTAMP=20260423T224618Z
DTSTART;VALUE=DATE:20260516
DTEND;VALUE=DATE:20260517
SUMMARY:MacArthur Mayhem 
LOCATION:Irving MacArthur Highschool, 3700 N MacArthur Blvd, Irving, TX, 75062
DESCRIPTION:View full event details: https://wrestlingtournaments.org/view.cfm?ID=107000

URL;VALUE=URI:https://wrestlingtournaments.org/view.cfm?ID=107000
END:VEVENT
END:VCALENDAR