BEGIN:VCALENDAR
VERSION:2.0
PRODID:-//ExhibitionMatches.com//NONSGML v1.0//EN
BEGIN:VEVENT
UID=67EAF0A7-C444-C27B-A5057F28441C76E0
DTSTAMP=20260423T224515Z
DTSTART;VALUE=DATE:20260516
DTEND;VALUE=DATE:20260517
SUMMARY:Massachusetts Referees/Coaches Education Clinic
LOCATION:Doughboy Wrestling Club, 171 Lincoln St #6021, Lowell, MA
DESCRIPTION:View full event details: https://wrestlingtournaments.org/view.cfm?ID=106998
Contact: Michael McLarney board@usawmwa.org
URL;VALUE=URI:https://wrestlingtournaments.org/view.cfm?ID=106998
END:VEVENT
END:VCALENDAR