BEGIN:VCALENDAR
VERSION:2.0
PRODID:-//ExhibitionMatches.com//NONSGML v1.0//EN
BEGIN:VEVENT
UID=67CB712C-CB46-D2CD-4CF9AF531C1BB7F2
DTSTAMP=20260423T224148Z
DTSTART;VALUE=DATE:20260515
DTEND;VALUE=DATE:20260516
SUMMARY:KD Wrestling- Ohio Camp
LOCATION:Mechanicsburg, OH
DESCRIPTION:View full event details: https://wrestlingtournaments.org/view.cfm?ID=106997

URL;VALUE=URI:https://wrestlingtournaments.org/view.cfm?ID=106997
END:VEVENT
END:VCALENDAR