BEGIN:VCALENDAR
VERSION:2.0
PRODID:-//ExhibitionMatches.com//NONSGML v1.0//EN
BEGIN:VEVENT
UID=67CCB637-D277-70F8-4F4201878C128D04
DTSTAMP=20260423T224156Z
DTSTART;VALUE=DATE:20260510
DTEND;VALUE=DATE:20260511
SUMMARY:WrestlingTournaments.com Presents: WAR Zone Spring Mat-Mayhem (Female Only Division)
LOCATION:All Sportz, 100 Ruland Rd, Melville, NY, 11747
DESCRIPTION:View full event details: https://wrestlingtournaments.org/view.cfm?ID=106996

URL;VALUE=URI:https://wrestlingtournaments.org/view.cfm?ID=106996
END:VEVENT
END:VCALENDAR