BEGIN:VCALENDAR
VERSION:2.0
PRODID:-//ExhibitionMatches.com//NONSGML v1.0//EN
BEGIN:VEVENT
UID=67ED90DA-9025-AB16-C43A9646C8CDA067
DTSTAMP=20260423T224532Z
DTSTART;VALUE=DATE:20260509
DTEND;VALUE=DATE:20260510
SUMMARY:TOF Club Duals at Lake Gibson
LOCATION:Lake Gibson High School, 7007 N Socrum Loop Rd, Lakeland, FL, 33809
DESCRIPTION:View full event details: https://wrestlingtournaments.org/view.cfm?ID=106993
Contact: Brent Jorge brentjorge@gmail.com
URL;VALUE=URI:https://wrestlingtournaments.org/view.cfm?ID=106993
END:VEVENT
END:VCALENDAR