BEGIN:VCALENDAR
VERSION:2.0
PRODID:-//ExhibitionMatches.com//NONSGML v1.0//EN
BEGIN:VEVENT
UID=6B55B2F7-E520-BCE3-0562F8C5EDA4970B
DTSTAMP=20260424T002047Z
DTSTART;VALUE=DATE:20260509
DTEND;VALUE=DATE:20260510
SUMMARY:TCWA Triton Throwdown
LOCATION:Pacifica High School, 600 E. Gonzales Rd, Oxnard, CA, 93036
DESCRIPTION:View full event details: https://wrestlingtournaments.org/view.cfm?ID=106987
Contact: Joe Rodriguez jrod1221@verizon.net
URL;VALUE=URI:https://wrestlingtournaments.org/view.cfm?ID=106987
END:VEVENT
END:VCALENDAR