BEGIN:VCALENDAR
VERSION:2.0
PRODID:-//ExhibitionMatches.com//NONSGML v1.0//EN
BEGIN:VEVENT
UID=ED9F2698-9A38-75BA-840BCAFE9E7639FF
DTSTAMP=20260421T134536Z
DTSTART;VALUE=DATE:20260424
DTEND;VALUE=DATE:20260427
SUMMARY:2026 Canadian U19 U17 U15 Championships
LOCATION:Design Works Centre, 6 Knowledge Way, Grande Prairie, AB
DESCRIPTION:View full event details: https://wrestlingtournaments.org/view.cfm?ID=106949

URL;VALUE=URI:https://wrestlingtournaments.org/view.cfm?ID=106949
END:VEVENT
END:VCALENDAR