BEGIN:VCALENDAR
VERSION:2.0
PRODID:-//ExhibitionMatches.com//NONSGML v1.0//EN
BEGIN:VEVENT
UID=ED6371DC-CD01-76ED-135D06FF1D66D884
DTSTAMP=20260421T133905Z
DTSTART;VALUE=DATE:20260423
DTEND;VALUE=DATE:20260424
SUMMARY:2026 AISD Jr High GIRLS Scramble #3
LOCATION:Arlington ISD Athletics Center, 1001 East Division Street, Arlington, TX, 76011
DESCRIPTION:View full event details: https://wrestlingtournaments.org/view.cfm?ID=106948

URL;VALUE=URI:https://wrestlingtournaments.org/view.cfm?ID=106948
END:VEVENT
END:VCALENDAR