BEGIN:VCALENDAR
VERSION:2.0
PRODID:-//ExhibitionMatches.com//NONSGML v1.0//EN
BEGIN:VEVENT
UID=F04F15B8-D8C5-2600-0E475AE871487657
DTSTAMP=20260421T150044Z
DTSTART;VALUE=DATE:20260423
DTEND;VALUE=DATE:20260424
SUMMARY:2026 AISD Jr High BOYS Scramble #3
LOCATION:Arlington ISD Athletics Center, 1001 East Division Street, Arlington, TX, 76011
DESCRIPTION:View full event details: https://wrestlingtournaments.org/view.cfm?ID=106947

URL;VALUE=URI:https://wrestlingtournaments.org/view.cfm?ID=106947
END:VEVENT
END:VCALENDAR