BEGIN:VCALENDAR
VERSION:2.0
PRODID:-//ExhibitionMatches.com//NONSGML v1.0//EN
BEGIN:VEVENT
UID=10082D6C-E72F-910A-1944F86FBF7FD8CC
DTSTAMP=20260422T054747Z
DTSTART;VALUE=DATE:20260606
DTEND;VALUE=DATE:20260607
SUMMARY:2026 Body Armor State Games- Beach
LOCATION:Pinetop Neighborhood Resort, 3723 Pinetop Road, Greensboro, NC, 27410
DESCRIPTION:View full event details: https://wrestlingtournaments.org/view.cfm?ID=106945

URL;VALUE=URI:https://wrestlingtournaments.org/view.cfm?ID=106945
END:VEVENT
END:VCALENDAR