BEGIN:VCALENDAR
VERSION:2.0
PRODID:-//ExhibitionMatches.com//NONSGML v1.0//EN
BEGIN:VEVENT
UID=44C91082-FAAC-247A-AC715B3E3EA1F3CE
DTSTAMP=20260423T062252Z
DTSTART;VALUE=DATE:20260606
DTEND;VALUE=DATE:20260607
SUMMARY:26 SC Free Greco State
LOCATION:Hartsville High School, 701 Lewellen avenue, Hartsville, SC, 29550
DESCRIPTION:View full event details: https://wrestlingtournaments.org/view.cfm?ID=106942
Contact: Philip Price philip.price.8279@gmail.com
URL;VALUE=URI:https://wrestlingtournaments.org/view.cfm?ID=106942
END:VEVENT
END:VCALENDAR