BEGIN:VCALENDAR
VERSION:2.0
PRODID:-//ExhibitionMatches.com//NONSGML v1.0//EN
BEGIN:VEVENT
UID=1009902B-E8FC-0522-2AFEE35958184CAC
DTSTAMP=20260422T054756Z
DTSTART;VALUE=DATE:20260606
DTEND;VALUE=DATE:20260607
SUMMARY:2026 Ilio DiPaolo`s Nickel City Duals (Girls)
LOCATION:Buffalo RiverWorks, 359 Ganson Street, Buffalo, NY, 14203
DESCRIPTION:View full event details: https://wrestlingtournaments.org/view.cfm?ID=106941

URL;VALUE=URI:https://wrestlingtournaments.org/view.cfm?ID=106941
END:VEVENT
END:VCALENDAR