BEGIN:VCALENDAR
VERSION:2.0
PRODID:-//ExhibitionMatches.com//NONSGML v1.0//EN
BEGIN:VEVENT
UID=10110450-F751-3DC1-B53ED041D21618D9
DTSTAMP=20260422T054845Z
DTSTART;VALUE=DATE:20260606
DTEND;VALUE=DATE:20260607
SUMMARY:2026 Ilio DiPaolo`s Nickel City Duals (Boys)
LOCATION:Buffalo RiverWorks, 359 Ganson Street, Buffalo, NY, 14203
DESCRIPTION:View full event details: https://wrestlingtournaments.org/view.cfm?ID=106940

URL;VALUE=URI:https://wrestlingtournaments.org/view.cfm?ID=106940
END:VEVENT
END:VCALENDAR