BEGIN:VCALENDAR
VERSION:2.0
PRODID:-//ExhibitionMatches.com//NONSGML v1.0//EN
BEGIN:VEVENT
UID=67BC8042-DA23-81DF-5315B98073E26097
DTSTAMP=20260423T224010Z
DTSTART;VALUE=DATE:20260510
DTEND;VALUE=DATE:20260511
SUMMARY:CVYWA`s Spring Scramble-cancelled
LOCATION:John Muir Middle School, 707 Letts Avenue, Corcoran, CA, 93212
DESCRIPTION:View full event details: https://wrestlingtournaments.org/view.cfm?ID=106938

URL;VALUE=URI:https://wrestlingtournaments.org/view.cfm?ID=106938
END:VEVENT
END:VCALENDAR