BEGIN:VCALENDAR
VERSION:2.0
PRODID:-//ExhibitionMatches.com//NONSGML v1.0//EN
BEGIN:VEVENT
UID=67BDDB33-C04C-D58E-61D11B6594D6B89F
DTSTAMP=20260423T224019Z
DTSTART;VALUE=DATE:20260510
DTEND;VALUE=DATE:20260511
SUMMARY:WrestlingTournaments.com Presents: WAR Zone Spring Mat-Mayhem (Open Division [athletes over 18])
LOCATION:All Sportz, 100 Ruland Rd, Melville, NY, 11747
DESCRIPTION:View full event details: https://wrestlingtournaments.org/view.cfm?ID=106937

URL;VALUE=URI:https://wrestlingtournaments.org/view.cfm?ID=106937
END:VEVENT
END:VCALENDAR