BEGIN:VCALENDAR
VERSION:2.0
PRODID:-//ExhibitionMatches.com//NONSGML v1.0//EN
BEGIN:VEVENT
UID=D727B3D8-BC7A-5131-D84B4E1D17CA3217
DTSTAMP=20260421T031723Z
DTSTART;VALUE=DATE:20260306
DTEND;VALUE=DATE:20260308
SUMMARY:2026 Big 12 Championships
LOCATION:BOK Center, 200 South Denver Avenue, Tulsa, OK, 74103
DESCRIPTION:View full event details: https://wrestlingtournaments.org/view.cfm?ID=106338

URL;VALUE=URI:https://wrestlingtournaments.org/view.cfm?ID=106338
END:VEVENT
END:VCALENDAR