BEGIN:VCALENDAR
VERSION:2.0
PRODID:-//ExhibitionMatches.com//NONSGML v1.0//EN
BEGIN:VEVENT
UID=D732D134-B3A4-6126-3BAFE32AEE50198C
DTSTAMP=20260421T031836Z
DTSTART;VALUE=DATE:20260303
DTEND;VALUE=DATE:20260304
SUMMARY:Wahoo MS Invite
LOCATION:Wahoo High School, 2201 North Locust Street, Wahoo, NE, 68066
DESCRIPTION:View full event details: https://wrestlingtournaments.org/view.cfm?ID=106330

URL;VALUE=URI:https://wrestlingtournaments.org/view.cfm?ID=106330
END:VEVENT
END:VCALENDAR