BEGIN:VCALENDAR
VERSION:2.0
PRODID:-//ExhibitionMatches.com//NONSGML v1.0//EN
BEGIN:VEVENT
UID=A4B9E7F9-D6CE-0EB0-7E59A494A2CFF259
DTSTAMP=20260420T034717Z
DTSTART;VALUE=DATE:20260303
DTEND;VALUE=DATE:20260304
SUMMARY:2026 Ashland-Greenwood MS Tournament
LOCATION:Ashland Greenwood High school, 1842 Furnas Street, Ashland, NE, 68003
DESCRIPTION:View full event details: https://wrestlingtournaments.org/view.cfm?ID=106320

URL;VALUE=URI:https://wrestlingtournaments.org/view.cfm?ID=106320
END:VEVENT
END:VCALENDAR